BEGIN:VCALENDAR
VERSION:2.0
PRODID:-//VNSa - ECPv6.15.20//NONSGML v1.0//EN
CALSCALE:GREGORIAN
METHOD:PUBLISH
X-ORIGINAL-URL:https://vnsa.nl
X-WR-CALDESC:Evenementen voor VNSa
REFRESH-INTERVAL;VALUE=DURATION:PT1H
X-Robots-Tag:noindex
X-PUBLISHED-TTL:PT1H
BEGIN:VTIMEZONE
TZID:UTC
BEGIN:STANDARD
TZOFFSETFROM:+0000
TZOFFSETTO:+0000
TZNAME:UTC
DTSTART:20250101T000000
END:STANDARD
END:VTIMEZONE
BEGIN:VEVENT
DTSTART;TZID=UTC:20260901T193000
DTEND;TZID=UTC:20260901T220000
DTSTAMP:20260424T121731
CREATED:20260218T080859Z
LAST-MODIFIED:20260305T094036Z
UID:8483-1788291000-1788300000@vnsa.nl
SUMMARY:RVO Noord Holland 01-09
DESCRIPTION:Het adres is: \n\n\n\nWijkcentrum OverdieVan Maerlantstraat 8 – 101813 BH Alkmaar \n\n\n\nWebsite: www.thuisinoverdie.nl \n\n\n\nTelefoon: 072 – 5402499 \n\n\n\nGraag aanmelden op het e-mailadres alkmaar@vnsa.nl . \n\n\n\nWe beginnen om 19.30 uur en sluiten af om 22.00 uur.
URL:https://vnsa.nl/evenement/arbeidsrecht-3-5-2-2/
CATEGORIES:2026
END:VEVENT
BEGIN:VEVENT
DTSTART;TZID=UTC:20260908T133000
DTEND;TZID=UTC:20260908T170000
DTSTAMP:20260424T121731
CREATED:20260126T081310Z
LAST-MODIFIED:20260305T093840Z
UID:8444-1788874200-1788886800@vnsa.nl
SUMMARY:WKR
DESCRIPTION:Remko Hesse neemt ons vandaag mee in de regels met betrekking tot de WKR. Zo tegen het eind van het jaar wordt dit altijd weer een veel besproken onderwerp. Wat kan er nu wel en wat niet? En ook heel belangrijk\, wat hoeft er niet in.
URL:https://vnsa.nl/evenement/wkr-3/
CATEGORIES:2026
END:VEVENT
BEGIN:VEVENT
DTSTART;TZID=UTC:20260922T133000
DTEND;TZID=UTC:20260922T170000
DTSTAMP:20260424T121731
CREATED:20260102T075943Z
LAST-MODIFIED:20260305T093902Z
UID:8387-1790083800-1790096400@vnsa.nl
SUMMARY:Personeel en AVG
DESCRIPTION:Of we het nou leuk vinden of niet\, hier hebben we tegenwoordig veel mee te maken. De AVG wetgeving maakt het werk van de salarisadministrateur zelfs lastiger. Remco Hesse praat ons helemaal bij. Hij zal uitleggen waar we op moeten letten en hoe we hier het beste mee om kunnen gaan.
URL:https://vnsa.nl/evenement/wkr-2/
CATEGORIES:2026
END:VEVENT
BEGIN:VEVENT
DTSTART;TZID=UTC:20260924T133000
DTEND;TZID=UTC:20260924T170000
DTSTAMP:20260424T121731
CREATED:20260126T081426Z
LAST-MODIFIED:20260305T093917Z
UID:8446-1790256600-1790269200@vnsa.nl
SUMMARY:Prinsjesdag
DESCRIPTION:Ieder jaar weer spannend. Wat heeft de regering in petto en wat berekend dit voor de salarisadministrateur? In deze sessie\, kort na Prinsjesdag\, gaan we in op de gevolgen van de maatregelen die zijn aangekondigd in de Troonrede. Welke verrassing zitten er in het koffertje en hoe kunnen werkgevers daarmee aan de slag? Kortom\, een workshop door Casper Mons waarin we worden bijgepraat met de laatste actualiteiten.
URL:https://vnsa.nl/evenement/arbeidsrecht-3-3-2/
CATEGORIES:2026
END:VEVENT
END:VCALENDAR