BEGIN:VCALENDAR
VERSION:2.0
PRODID:-//VNSa - ECPv6.15.20//NONSGML v1.0//EN
CALSCALE:GREGORIAN
METHOD:PUBLISH
X-ORIGINAL-URL:https://vnsa.nl
X-WR-CALDESC:Evenementen voor VNSa
REFRESH-INTERVAL;VALUE=DURATION:PT1H
X-Robots-Tag:noindex
X-PUBLISHED-TTL:PT1H
BEGIN:VTIMEZONE
TZID:UTC
BEGIN:STANDARD
TZOFFSETFROM:+0000
TZOFFSETTO:+0000
TZNAME:UTC
DTSTART:20250101T000000
END:STANDARD
END:VTIMEZONE
BEGIN:VEVENT
DTSTART;TZID=UTC:20261001T133000
DTEND;TZID=UTC:20261001T170000
DTSTAMP:20260424T135903
CREATED:20241231T105138Z
LAST-MODIFIED:20260305T093938Z
UID:7891-1790861400-1790874000@vnsa.nl
SUMMARY:Internationale arbeid
DESCRIPTION:In de workshop “Internationale arbeid” draait alles om werken over de grens. Carlo Douven begint met belangrijke basispunten zoals de bepaling van de woonplaats en de wijze van identificatie. Vervolgens brengt hij de gevolgen van grensoverschrijdend werken in kaart voor belastingheffing (zoals de 30%-regeling en belastingverdragen)\, sociale zekerheid (zoals VO 883/2004)\, inleners- en ketenaansprakelijkheid en arbeids- en verblijfsrecht. Na deze workshop ben je volledig op de hoogte van de belangrijkste aandachtspunten bij grensoverschrijdend werken\, zowel voor situaties waarin werknemers in Nederland wonen en in het buitenland gaan werken\, als voor situaties waarin buitenlandse werknemers in Nederland willen werken.
URL:https://vnsa.nl/evenement/internationale-arbeid/
CATEGORIES:2026
END:VEVENT
BEGIN:VEVENT
DTSTART;TZID=UTC:20261006T133000
DTEND;TZID=UTC:20261006T170000
DTSTAMP:20260424T135903
CREATED:20241231T104711Z
LAST-MODIFIED:20260305T094128Z
UID:7871-1791293400-1791306000@vnsa.nl
SUMMARY:Arbeidsrecht
DESCRIPTION:Als salarisadministrateur draait het om de afspraken die tussen werkgever en werknemer zijn gemaakt. Maar wat doen we als hier een meningsverschil over ontstaat? Marie José Spierings houdt zich dagelijks bezig met dit soort vraagstukken. Zij zal jullie op de hoogte brengen van de onderwerpen die op dat moment actueel zijn en uitleggen hoe je deze problemen kunt voorkomen of oplossen.
URL:https://vnsa.nl/evenement/arbeidsrecht-3/
CATEGORIES:2026
END:VEVENT
BEGIN:VEVENT
DTSTART;TZID=UTC:20261029T133000
DTEND;TZID=UTC:20261029T170000
DTSTAMP:20260424T135904
CREATED:20260112T075721Z
LAST-MODIFIED:20260305T093948Z
UID:8415-1793280600-1793293200@vnsa.nl
SUMMARY:Uitruilen arbeidsvoorwaarden
DESCRIPTION:Tijdens deze workshop gaat Casper Mons nader in op de voorwaarden waaraan je als werkgever moet voldoen om werknemers gebruik te laten maken van het uitruilen van arbeidsvoorwaarden. In de praktijk hebben we het dan concreet over flexibele arbeidsvoorwaarden\, individueel keuzebudget (IKB) of het persoonlijk keuzebudget (PKB). Klopt het dat je eerst een zogenaamd cafetariareglement moet opstellen waaruit blijkt hoe dit alles is vormgegeven? Wat betekent realiteitswaarde bij het uitruilen? Hoe verhoudt zich de werkkostenregeling en de vrije ruimte tot alles wat uitgeruild wordt? Gelden er vrijstellingen bij het uitruilen? Mag ik bijvoorbeeld witgoed zoals een wasmachine of zonnepanelen laten uitruilen door een werknemer? Na afloop van deze workshop ben je in staat om de werkgever goed te informeren over hoe en op welke wijze flexibele arbeidsvoorwaarden in het arbeidsvoorwaardenbeleid kunnen worden opgenomen.
URL:https://vnsa.nl/evenement/arbeidsrecht-3-3/
CATEGORIES:2026
END:VEVENT
END:VCALENDAR