BEGIN:VCALENDAR
VERSION:2.0
PRODID:-//VNSa - ECPv6.15.20//NONSGML v1.0//EN
CALSCALE:GREGORIAN
METHOD:PUBLISH
X-ORIGINAL-URL:https://vnsa.nl
X-WR-CALDESC:Evenementen voor VNSa
REFRESH-INTERVAL;VALUE=DURATION:PT1H
X-Robots-Tag:noindex
X-PUBLISHED-TTL:PT1H
BEGIN:VTIMEZONE
TZID:UTC
BEGIN:STANDARD
TZOFFSETFROM:+0000
TZOFFSETTO:+0000
TZNAME:UTC
DTSTART:20250101T000000
END:STANDARD
END:VTIMEZONE
BEGIN:VEVENT
DTSTART;TZID=UTC:20261105T133000
DTEND;TZID=UTC:20261105T170000
DTSTAMP:20260424T155701
CREATED:20260112T075637Z
LAST-MODIFIED:20260305T094006Z
UID:8413-1793885400-1793898000@vnsa.nl
SUMMARY:IB en de SalarisadministrateurInternationale arbeid
DESCRIPTION:De inkomstenbelasting sluit tegenwoordig niet meer naadloos aan op de loonheffingen. Daarom is het voor de salarisadministrateur belangrijk om te begrijpen waar en hoe deze verschillen kunnen ontstaan. Remco Hesse zal ons de hoofdlijnen van de werking van de inkomstenbelasting uitleggen\, zodat wij als salarisadministrateurs van toegevoegde waarde kunnen zijn voor onze medewerkers en/of opdrachtgevers.
URL:https://vnsa.nl/evenement/internationale-arbeid-2/
CATEGORIES:2026
END:VEVENT
END:VCALENDAR