BEGIN:VCALENDAR
VERSION:2.0
PRODID:-//VNSa - ECPv6.15.20//NONSGML v1.0//EN
CALSCALE:GREGORIAN
METHOD:PUBLISH
X-ORIGINAL-URL:https://vnsa.nl
X-WR-CALDESC:Evenementen voor VNSa
REFRESH-INTERVAL;VALUE=DURATION:PT1H
X-Robots-Tag:noindex
X-PUBLISHED-TTL:PT1H
BEGIN:VTIMEZONE
TZID:UTC
BEGIN:STANDARD
TZOFFSETFROM:+0000
TZOFFSETTO:+0000
TZNAME:UTC
DTSTART:20250101T000000
END:STANDARD
END:VTIMEZONE
BEGIN:VEVENT
DTSTART;TZID=UTC:20261201T193000
DTEND;TZID=UTC:20261201T220000
DTSTAMP:20260424T174314
CREATED:20260218T080922Z
LAST-MODIFIED:20260305T092248Z
UID:8485-1796153400-1796162400@vnsa.nl
SUMMARY:RVO Noord Holland 01-12
DESCRIPTION:Het adres is: \n\n\n\nWijkcentrum OverdieVan Maerlantstraat 8 – 101813 BH Alkmaar \n\n\n\nWebsite: www.thuisinoverdie.nl \n\n\n\nTelefoon: 072 – 5402499 \n\n\n\nGraag aanmelden op het e-mailadres alkmaar@vnsa.nl . \n\n\n\nWe beginnen om 19.30 uur en sluiten af om 22.00 uur.
URL:https://vnsa.nl/evenement/arbeidsrecht-3-5-2-2-2/
CATEGORIES:2026
END:VEVENT
END:VCALENDAR